Package: affyio Version: 1.76.0 Command: /home/biocbuild/bbs-3.20-bioc/R/bin/R CMD INSTALL affyio StartedAt: 2024-11-19 15:05:26 -0500 (Tue, 19 Nov 2024) EndedAt: 2024-11-19 15:05:36 -0500 (Tue, 19 Nov 2024) EllapsedTime: 10.0 seconds RetCode: 0 Status: OK