Package: affyio Version: 1.76.0 Command: /home/biocbuild/bbs-3.20-bioc/R/bin/R CMD check --install=check:affyio.install-out.txt --library=/home/biocbuild/bbs-3.20-bioc/R/site-library --timings affyio_1.76.0.tar.gz StartedAt: 2025-01-27 20:42:39 -0500 (Mon, 27 Jan 2025) EndedAt: 2025-01-27 20:42:53 -0500 (Mon, 27 Jan 2025) EllapsedTime: 13.0 seconds RetCode: 0 Status: WARNINGS CheckDir: affyio.Rcheck Warnings: 2