Package: affyio Version: 1.76.0 Command: /Library/Frameworks/R.framework/Resources/bin/R CMD check --install=check:affyio.install-out.txt --library=/Library/Frameworks/R.framework/Resources/library --no-vignettes --timings affyio_1.76.0.tar.gz StartedAt: 2025-01-27 23:45:30 -0500 (Mon, 27 Jan 2025) EndedAt: 2025-01-27 23:46:07 -0500 (Mon, 27 Jan 2025) EllapsedTime: 37.0 seconds RetCode: 0 Status: WARNINGS CheckDir: affyio.Rcheck Warnings: 2