Package: affyio Version: 1.76.0 Command: /Library/Frameworks/R.framework/Resources/bin/R CMD build --keep-empty-dirs --no-resave-data affyio StartedAt: 2025-01-27 16:57:41 -0500 (Mon, 27 Jan 2025) EndedAt: 2025-01-27 16:57:43 -0500 (Mon, 27 Jan 2025) EllapsedTime: 2.2 seconds RetCode: 0 Status: OK PackageFile: affyio_1.76.0.tar.gz PackageFileSize: 107.9 KiB