Package: affyio Version: 1.76.0 Command: rm -rf affyio.buildbin-libdir && mkdir affyio.buildbin-libdir && /Users/biocbuild/BBS/utils/build-universal.sh affyio_1.76.0.tar.gz /Library/Frameworks/R.framework/Resources/bin/R affyio.buildbin-libdir StartedAt: 2025-01-28 12:36:03 -0500 (Tue, 28 Jan 2025) EndedAt: 2025-01-28 12:36:36 -0500 (Tue, 28 Jan 2025) EllapsedTime: 33.0 seconds RetCode: 0 Status: OK PackageFile: affyio_1.76.0.tgz PackageFileSize: 99.86 KiB