Package: affyio Version: 1.76.0 Command: /Library/Frameworks/R.framework/Resources/bin/R CMD INSTALL affyio StartedAt: 2025-02-03 15:09:35 -0500 (Mon, 03 Feb 2025) EndedAt: 2025-02-03 15:09:49 -0500 (Mon, 03 Feb 2025) EllapsedTime: 13.9 seconds RetCode: 0 Status: OK