Package: affycoretools Version: 1.78.0 Command: /home/biocbuild/R/R/bin/R CMD INSTALL affycoretools StartedAt: 2025-01-27 21:48:53 -0000 (Mon, 27 Jan 2025) EndedAt: 2025-01-27 21:50:09 -0000 (Mon, 27 Jan 2025) EllapsedTime: 76.4 seconds RetCode: 0 Status: OK