Package: affycoretools Version: 1.78.0 Command: chmod a+r affycoretools -R && F:\biocbuild\bbs-3.20-bioc\R\bin\R.exe CMD build --keep-empty-dirs --no-resave-data affycoretools StartedAt: 2025-03-31 17:16:02 -0400 (Mon, 31 Mar 2025) EndedAt: 2025-03-31 17:18:46 -0400 (Mon, 31 Mar 2025) EllapsedTime: 164.5 seconds RetCode: 0 Status: OK PackageFile: affycoretools_1.78.0.tar.gz PackageFileSize: 6.588 MiB