Package: affycoretools Version: 1.78.0 Command: /Library/Frameworks/R.framework/Resources/bin/R CMD INSTALL affycoretools StartedAt: 2025-03-31 16:13:40 -0400 (Mon, 31 Mar 2025) EndedAt: 2025-03-31 16:15:44 -0400 (Mon, 31 Mar 2025) EllapsedTime: 124.2 seconds RetCode: 0 Status: OK