Package: affycoretools Version: 1.78.0 Command: rm -rf affycoretools.buildbin-libdir && mkdir affycoretools.buildbin-libdir && /Users/biocbuild/BBS/utils/build-universal.sh affycoretools_1.78.0.tar.gz /Library/Frameworks/R.framework/Resources/bin/R affycoretools.buildbin-libdir StartedAt: 2025-01-28 12:36:02 -0500 (Tue, 28 Jan 2025) EndedAt: 2025-01-28 12:38:18 -0500 (Tue, 28 Jan 2025) EllapsedTime: 135.9 seconds RetCode: 0 Status: OK PackageFile: affycoretools_1.78.0.tgz PackageFileSize: 571.2 KiB