Package: affycomp Version: 1.82.0 Command: /home/biocbuild/R/R/bin/R CMD INSTALL affycomp StartedAt: 2025-03-31 20:11:51 -0000 (Mon, 31 Mar 2025) EndedAt: 2025-03-31 20:12:09 -0000 (Mon, 31 Mar 2025) EllapsedTime: 18.3 seconds RetCode: 0 Status: OK