Package: affycomp Version: 1.82.0 Command: /home/biocbuild/R/R/bin/R CMD check --install=check:affycomp.install-out.txt --library=/home/biocbuild/R/R/site-library --no-vignettes --timings affycomp_1.82.0.tar.gz StartedAt: 2025-01-28 04:29:20 -0000 (Tue, 28 Jan 2025) EndedAt: 2025-01-28 04:29:50 -0000 (Tue, 28 Jan 2025) EllapsedTime: 30.0 seconds RetCode: 0 Status: OK CheckDir: affycomp.Rcheck Warnings: 0