Package: affycomp Version: 1.82.0 Command: /home/biocbuild/bbs-3.20-bioc/R/bin/R CMD INSTALL affycomp StartedAt: 2025-01-27 15:56:51 -0500 (Mon, 27 Jan 2025) EndedAt: 2025-01-27 15:57:02 -0500 (Mon, 27 Jan 2025) EllapsedTime: 11.3 seconds RetCode: 0 Status: OK