Package: affycomp Version: 1.82.0 Command: /home/biocbuild/bbs-3.20-bioc/R/bin/R CMD build --keep-empty-dirs --no-resave-data --md5 affycomp StartedAt: 2025-01-27 17:02:51 -0500 (Mon, 27 Jan 2025) EndedAt: 2025-01-27 17:03:04 -0500 (Mon, 27 Jan 2025) EllapsedTime: 12.0 seconds RetCode: 0 Status: OK PackageFile: affycomp_1.82.0.tar.gz PackageFileSize: 7.98 MiB