Package: affycomp Version: 1.82.0 Command: /Library/Frameworks/R.framework/Resources/bin/R CMD INSTALL affycomp StartedAt: 2025-02-03 15:13:10 -0500 (Mon, 03 Feb 2025) EndedAt: 2025-02-03 15:13:27 -0500 (Mon, 03 Feb 2025) EllapsedTime: 16.7 seconds RetCode: 0 Status: OK