Package: affycomp Version: 1.82.0 Command: /Library/Frameworks/R.framework/Resources/bin/R CMD build --keep-empty-dirs --no-resave-data affycomp StartedAt: 2025-01-27 18:34:02 -0500 (Mon, 27 Jan 2025) EndedAt: 2025-01-27 18:34:11 -0500 (Mon, 27 Jan 2025) EllapsedTime: 8.8 seconds RetCode: 0 Status: OK PackageFile: affycomp_1.82.0.tar.gz PackageFileSize: 7.979 MiB