Package: affyPLM Version: 1.82.0 Command: F:\biocbuild\bbs-3.20-bioc\R\bin\R.exe CMD check --no-multiarch --install=check:affyPLM.install-out.txt --library=F:\biocbuild\bbs-3.20-bioc\R\library --no-vignettes --timings affyPLM_1.82.0.tar.gz StartedAt: 2025-01-27 22:49:32 -0500 (Mon, 27 Jan 2025) EndedAt: 2025-01-27 22:52:27 -0500 (Mon, 27 Jan 2025) EllapsedTime: 175.0 seconds RetCode: 0 Status: WARNINGS CheckDir: affyPLM.Rcheck Warnings: 1