Package: affyPLM Version: 1.82.0 Command: rm -rf affyPLM.buildbin-libdir && mkdir affyPLM.buildbin-libdir && F:\biocbuild\bbs-3.20-bioc\R\bin\R.exe CMD INSTALL --build --library=affyPLM.buildbin-libdir affyPLM_1.82.0.tar.gz StartedAt: 2025-01-28 07:35:51 -0500 (Tue, 28 Jan 2025) EndedAt: 2025-01-28 07:37:37 -0500 (Tue, 28 Jan 2025) EllapsedTime: 106.8 seconds RetCode: 0 Status: OK PackageFile: affyPLM_1.82.0.zip PackageFileSize: 2.747 MiB