Package: affyPLM Version: 1.82.0 Command: /Library/Frameworks/R.framework/Resources/bin/R CMD build --keep-empty-dirs --no-resave-data affyPLM StartedAt: 2025-03-31 16:48:47 -0400 (Mon, 31 Mar 2025) EndedAt: 2025-03-31 16:53:32 -0400 (Mon, 31 Mar 2025) EllapsedTime: 284.5 seconds RetCode: 0 Status: OK PackageFile: affyPLM_1.82.0.tar.gz PackageFileSize: 6.291 MiB