Package: affyPLM Version: 1.82.0 Command: /Library/Frameworks/R.framework/Resources/bin/R CMD check --install=check:affyPLM.install-out.txt --library=/Library/Frameworks/R.framework/Resources/library --no-vignettes --timings affyPLM_1.82.0.tar.gz StartedAt: 2025-02-04 10:53:53 -0500 (Tue, 04 Feb 2025) EndedAt: 2025-02-04 10:57:14 -0500 (Tue, 04 Feb 2025) EllapsedTime: 200.6 seconds RetCode: 0 Status: OK CheckDir: affyPLM.Rcheck Warnings: 0