Package: affyILM Version: 1.58.0 Command: /home/biocbuild/bbs-3.20-bioc/R/bin/R CMD INSTALL affyILM StartedAt: 2025-01-30 15:11:25 -0500 (Thu, 30 Jan 2025) EndedAt: 2025-01-30 15:11:36 -0500 (Thu, 30 Jan 2025) EllapsedTime: 11.4 seconds RetCode: 0 Status: OK