Package: affyILM Version: 1.58.0 Command: /home/biocbuild/bbs-3.20-bioc/R/bin/R CMD check --install=check:affyILM.install-out.txt --library=/home/biocbuild/bbs-3.20-bioc/R/site-library --timings affyILM_1.58.0.tar.gz StartedAt: 2025-02-03 19:57:14 -0500 (Mon, 03 Feb 2025) EndedAt: 2025-02-03 19:58:43 -0500 (Mon, 03 Feb 2025) EllapsedTime: 89.1 seconds RetCode: 0 Status: OK CheckDir: affyILM.Rcheck Warnings: 0