Package: affyILM Version: 1.58.0 Command: /home/biocbuild/bbs-3.20-bioc/R/bin/R CMD build --keep-empty-dirs --no-resave-data --md5 affyILM StartedAt: 2025-01-30 16:09:05 -0500 (Thu, 30 Jan 2025) EndedAt: 2025-01-30 16:09:44 -0500 (Thu, 30 Jan 2025) EllapsedTime: 39.1 seconds RetCode: 0 Status: OK PackageFile: affyILM_1.58.0.tar.gz PackageFileSize: 234.3 KiB