Package: affyILM Version: 1.58.0 Command: rm -rf affyILM.buildbin-libdir && mkdir affyILM.buildbin-libdir && /Users/biocbuild/BBS/utils/build-universal.sh affyILM_1.58.0.tar.gz /Library/Frameworks/R.framework/Resources/bin/R affyILM.buildbin-libdir StartedAt: 2025-01-31 12:18:01 -0500 (Fri, 31 Jan 2025) EndedAt: 2025-01-31 12:18:32 -0500 (Fri, 31 Jan 2025) EllapsedTime: 30.4 seconds RetCode: 0 Status: OK PackageFile: affyILM_1.58.0.tgz PackageFileSize: 501.7 KiB