Package: affyILM Version: 1.58.0 Command: /Library/Frameworks/R.framework/Resources/bin/R CMD INSTALL affyILM StartedAt: 2025-01-30 15:25:11 -0500 (Thu, 30 Jan 2025) EndedAt: 2025-01-30 15:25:25 -0500 (Thu, 30 Jan 2025) EllapsedTime: 14.2 seconds RetCode: 0 Status: OK