Package: affy Version: 1.84.0 Command: /home/biocbuild/R/R/bin/R CMD INSTALL affy StartedAt: 2025-02-03 20:24:05 -0000 (Mon, 03 Feb 2025) EndedAt: 2025-02-03 20:24:27 -0000 (Mon, 03 Feb 2025) EllapsedTime: 22.4 seconds RetCode: 0 Status: OK