Package: affy Version: 1.84.0 Command: /home/biocbuild/R/R/bin/R CMD build --keep-empty-dirs --no-resave-data affy StartedAt: 2025-01-30 21:27:26 -0000 (Thu, 30 Jan 2025) EndedAt: 2025-01-30 21:28:35 -0000 (Thu, 30 Jan 2025) EllapsedTime: 69.0 seconds RetCode: 0 Status: OK PackageFile: affy_1.84.0.tar.gz PackageFileSize: 1.648 MiB