Package: affy Version: 1.84.0 Command: /Library/Frameworks/R.framework/Resources/bin/R CMD check --install=check:affy.install-out.txt --library=/Library/Frameworks/R.framework/Resources/library --no-vignettes --timings affy_1.84.0.tar.gz StartedAt: 2025-01-30 23:58:40 -0500 (Thu, 30 Jan 2025) EndedAt: 2025-01-31 00:03:00 -0500 (Fri, 31 Jan 2025) EllapsedTime: 259.4 seconds RetCode: 0 Status: WARNINGS CheckDir: affy.Rcheck Warnings: 1