Package: affxparser Version: 1.78.0 Command: F:\biocbuild\bbs-3.20-bioc\R\bin\R.exe CMD check --no-multiarch --install=check:affxparser.install-out.txt --library=F:\biocbuild\bbs-3.20-bioc\R\library --no-vignettes --timings affxparser_1.78.0.tar.gz StartedAt: 2025-01-27 22:48:26 -0500 (Mon, 27 Jan 2025) EndedAt: 2025-01-27 22:50:22 -0500 (Mon, 27 Jan 2025) EllapsedTime: 115.1 seconds RetCode: 0 Status: WARNINGS CheckDir: affxparser.Rcheck Warnings: 1