Package: affxparser Version: 1.78.0 Command: /home/biocbuild/bbs-3.20-bioc/R/bin/R CMD INSTALL affxparser StartedAt: 2025-02-03 15:13:21 -0500 (Mon, 03 Feb 2025) EndedAt: 2025-02-03 15:14:34 -0500 (Mon, 03 Feb 2025) EllapsedTime: 73.2 seconds RetCode: 0 Status: OK