Package: affxparser Version: 1.78.0 Command: /Library/Frameworks/R.framework/Resources/bin/R CMD check --install=check:affxparser.install-out.txt --library=/Library/Frameworks/R.framework/Resources/library --no-vignettes --timings affxparser_1.78.0.tar.gz StartedAt: 2025-01-27 23:43:46 -0500 (Mon, 27 Jan 2025) EndedAt: 2025-01-27 23:45:50 -0500 (Mon, 27 Jan 2025) EllapsedTime: 124.1 seconds RetCode: 0 Status: WARNINGS CheckDir: affxparser.Rcheck Warnings: 2