Package: affxparser Version: 1.78.0 Command: /Library/Frameworks/R.framework/Resources/bin/R CMD INSTALL affxparser StartedAt: 2025-01-27 15:03:05 -0500 (Mon, 27 Jan 2025) EndedAt: 2025-01-27 15:04:33 -0500 (Mon, 27 Jan 2025) EllapsedTime: 88.0 seconds RetCode: 0 Status: OK