Package: adductomicsR Version: 1.22.0 Command: /home/biocbuild/bbs-3.20-bioc/R/bin/R CMD INSTALL adductomicsR StartedAt: 2025-03-31 15:42:53 -0400 (Mon, 31 Mar 2025) EndedAt: 2025-03-31 15:43:16 -0400 (Mon, 31 Mar 2025) EllapsedTime: 23.1 seconds RetCode: 0 Status: OK