Package: adductomicsR Version: 1.22.0 Command: /home/biocbuild/bbs-3.20-bioc/R/bin/R CMD check --install=check:adductomicsR.install-out.txt --library=/home/biocbuild/bbs-3.20-bioc/R/site-library --timings adductomicsR_1.22.0.tar.gz StartedAt: 2025-03-31 19:44:31 -0400 (Mon, 31 Mar 2025) EndedAt: 2025-03-31 19:50:20 -0400 (Mon, 31 Mar 2025) EllapsedTime: 348.5 seconds RetCode: 0 Status: WARNINGS CheckDir: adductomicsR.Rcheck Warnings: 1