Package: adductomicsR Version: 1.22.0 Command: rm -rf adductomicsR.buildbin-libdir && mkdir adductomicsR.buildbin-libdir && /Users/biocbuild/BBS/utils/build-universal.sh adductomicsR_1.22.0.tar.gz /Library/Frameworks/R.framework/Resources/bin/R adductomicsR.buildbin-libdir StartedAt: 2025-02-05 14:43:28 -0500 (Wed, 05 Feb 2025) EndedAt: 2025-02-05 14:43:57 -0500 (Wed, 05 Feb 2025) EllapsedTime: 29.5 seconds RetCode: 0 Status: OK PackageFile: adductomicsR_1.22.0.tgz PackageFileSize: 1.225 MiB