Package: acde Version: 1.36.0 Command: /home/biocbuild/R/R/bin/R CMD build --keep-empty-dirs --no-resave-data acde StartedAt: 2025-03-31 21:16:42 -0000 (Mon, 31 Mar 2025) EndedAt: 2025-03-31 21:16:56 -0000 (Mon, 31 Mar 2025) EllapsedTime: 14.0 seconds RetCode: 0 Status: OK PackageFile: acde_1.36.0.tar.gz PackageFileSize: 8.859 MiB