Package: acde Version: 1.36.0 Command: /home/biocbuild/bbs-3.20-bioc/R/bin/R CMD INSTALL acde StartedAt: 2025-01-27 15:56:41 -0500 (Mon, 27 Jan 2025) EndedAt: 2025-01-27 15:56:43 -0500 (Mon, 27 Jan 2025) EllapsedTime: 2.6 seconds RetCode: 0 Status: OK