Package: acde Version: 1.36.0 Command: /Library/Frameworks/R.framework/Resources/bin/R CMD INSTALL acde StartedAt: 2025-01-30 15:07:00 -0500 (Thu, 30 Jan 2025) EndedAt: 2025-01-30 15:07:09 -0500 (Thu, 30 Jan 2025) EllapsedTime: 8.6 seconds RetCode: 0 Status: OK