Package: acde Version: 1.36.0 Command: /Library/Frameworks/R.framework/Resources/bin/R CMD INSTALL acde StartedAt: 2025-01-27 15:05:02 -0500 (Mon, 27 Jan 2025) EndedAt: 2025-01-27 15:05:07 -0500 (Mon, 27 Jan 2025) EllapsedTime: 5.1 seconds RetCode: 0 Status: OK