Package: abseqR Version: 1.24.0 Command: chmod a+r abseqR -R && F:\biocbuild\bbs-3.20-bioc\R\bin\R.exe CMD build --keep-empty-dirs --no-resave-data abseqR StartedAt: 2025-01-27 17:15:15 -0500 (Mon, 27 Jan 2025) EndedAt: 2025-01-27 17:19:16 -0500 (Mon, 27 Jan 2025) EllapsedTime: 241.0 seconds RetCode: 0 Status: OK PackageFile: abseqR_1.24.0.tar.gz PackageFileSize: 2.145 MiB