Package: abseqR Version: 1.24.0 Command: /Library/Frameworks/R.framework/Resources/bin/R CMD check --install=check:abseqR.install-out.txt --library=/Library/Frameworks/R.framework/Resources/library --no-vignettes --timings abseqR_1.24.0.tar.gz StartedAt: 2024-11-08 19:39:09 -0500 (Fri, 08 Nov 2024) EndedAt: 2024-11-08 19:43:36 -0500 (Fri, 08 Nov 2024) EllapsedTime: 267.4 seconds RetCode: 0 Status: OK CheckDir: abseqR.Rcheck Warnings: 0