Package: aCGH Version: 1.84.0 Command: /home/biocbuild/R/R/bin/R CMD check --install=check:aCGH.install-out.txt --library=/home/biocbuild/R/R/site-library --no-vignettes --timings aCGH_1.84.0.tar.gz StartedAt: 2025-02-04 04:11:10 -0000 (Tue, 04 Feb 2025) EndedAt: 2025-02-04 04:13:25 -0000 (Tue, 04 Feb 2025) EllapsedTime: 134.4 seconds RetCode: 0 Status: OK CheckDir: aCGH.Rcheck Warnings: 0