Package: aCGH Version: 1.84.0 Command: rm -rf aCGH.buildbin-libdir && mkdir aCGH.buildbin-libdir && F:\biocbuild\bbs-3.20-bioc\R\bin\R.exe CMD INSTALL --build --library=aCGH.buildbin-libdir aCGH_1.84.0.tar.gz StartedAt: 2025-01-28 07:35:15 -0500 (Tue, 28 Jan 2025) EndedAt: 2025-01-28 07:36:23 -0500 (Tue, 28 Jan 2025) EllapsedTime: 68.0 seconds RetCode: 0 Status: OK PackageFile: aCGH_1.84.0.zip PackageFileSize: 2.44 MiB