Package: aCGH Version: 1.84.0 Command: rm -rf aCGH.buildbin-libdir && mkdir aCGH.buildbin-libdir && /Users/biocbuild/BBS/utils/build-universal.sh aCGH_1.84.0.tar.gz /Library/Frameworks/R.framework/Resources/bin/R aCGH.buildbin-libdir StartedAt: 2025-04-02 13:12:56 -0400 (Wed, 02 Apr 2025) EndedAt: 2025-04-02 13:13:13 -0400 (Wed, 02 Apr 2025) EllapsedTime: 16.2 seconds RetCode: 0 Status: OK PackageFile: aCGH_1.84.0.tgz PackageFileSize: 2.496 MiB