Package: a4Reporting Version: 1.54.0 Command: /home/biocbuild/R/R/bin/R CMD INSTALL a4Reporting StartedAt: 2025-01-30 20:07:05 -0000 (Thu, 30 Jan 2025) EndedAt: 2025-01-30 20:07:35 -0000 (Thu, 30 Jan 2025) EllapsedTime: 30.4 seconds RetCode: 0 Status: OK