Package: a4Reporting Version: 1.54.0 Command: /home/biocbuild/R/R/bin/R CMD check --install=check:a4Reporting.install-out.txt --library=/home/biocbuild/R/R/site-library --no-vignettes --timings a4Reporting_1.54.0.tar.gz StartedAt: 2025-01-31 03:41:40 -0000 (Fri, 31 Jan 2025) EndedAt: 2025-01-31 03:42:22 -0000 (Fri, 31 Jan 2025) EllapsedTime: 42.1 seconds RetCode: 0 Status: OK CheckDir: a4Reporting.Rcheck Warnings: 0