Package: a4Reporting Version: 1.54.0 Command: /Library/Frameworks/R.framework/Resources/bin/R CMD INSTALL a4Reporting StartedAt: 2025-03-31 15:05:10 -0400 (Mon, 31 Mar 2025) EndedAt: 2025-03-31 15:05:29 -0400 (Mon, 31 Mar 2025) EllapsedTime: 18.6 seconds RetCode: 0 Status: OK