Package: a4Classif Version: 1.54.0 Command: F:\biocbuild\bbs-3.20-bioc\R\bin\R.exe CMD INSTALL a4Classif StartedAt: 2025-01-27 16:40:51 -0500 (Mon, 27 Jan 2025) EndedAt: 2025-01-27 16:41:06 -0500 (Mon, 27 Jan 2025) EllapsedTime: 14.4 seconds RetCode: 0 Status: OK