Package: a4Classif Version: 1.54.0 Command: chmod a+r a4Classif -R && F:\biocbuild\bbs-3.20-bioc\R\bin\R.exe CMD build --keep-empty-dirs --no-resave-data a4Classif StartedAt: 2025-03-31 17:15:18 -0400 (Mon, 31 Mar 2025) EndedAt: 2025-03-31 17:16:01 -0400 (Mon, 31 Mar 2025) EllapsedTime: 43.1 seconds RetCode: 0 Status: OK PackageFile: a4Classif_1.54.0.tar.gz PackageFileSize: 372.4 KiB