Package: a4Classif Version: 1.54.0 Command: rm -rf a4Classif.buildbin-libdir && mkdir a4Classif.buildbin-libdir && F:\biocbuild\bbs-3.20-bioc\R\bin\R.exe CMD INSTALL --build --library=a4Classif.buildbin-libdir a4Classif_1.54.0.tar.gz StartedAt: 2025-01-28 07:35:15 -0500 (Tue, 28 Jan 2025) EndedAt: 2025-01-28 07:35:39 -0500 (Tue, 28 Jan 2025) EllapsedTime: 23.5 seconds RetCode: 0 Status: OK PackageFile: a4Classif_1.54.0.zip PackageFileSize: 411.7 KiB